BEGIN:VCALENDAR
VERSION:2.0
PRODID:-//eventon.com NONSGML v1.0//EN
CALSCALE:GREGORIAN
METHOD:PUBLISH
BEGIN:VEVENT
UID:69eb0cd3556b1
DTSTAMP:20260424T062523Z
DTSTART:20260905T100000Z
DTEND:20260905T160000Z
LOCATION:van Slootenplein\,  Bennekom
SUMMARY:Oogstfeest
DESCRIPTION:Op zaterdag 5 september van 10:00 tot 16:00 uur zet Oud-Benneko
 m het Van Slootenplein weer vol met oogstactiviteiten. Meer informatie volg
 t. Een goede reden om de Bennekomse vlag weer uit te hangen!\nhttps://oudbe
 nnekom.nl/events/oogstdag-2/
URL:https://oudbennekom.nl/events/oogstdag-2/
END:VEVENT
END:VCALENDAR